BEGIN:VCALENDAR
VERSION:2.0
PRODID:-//Rhodes Info Centre - ECPv6.15.20//NONSGML v1.0//EN
CALSCALE:GREGORIAN
METHOD:PUBLISH
X-WR-CALNAME:Rhodes Info Centre
X-ORIGINAL-URL:https://rhodesinfo.co.za
X-WR-CALDESC:Events for Rhodes Info Centre
REFRESH-INTERVAL;VALUE=DURATION:PT1H
X-Robots-Tag:noindex
X-PUBLISHED-TTL:PT1H
BEGIN:VTIMEZONE
TZID:Africa/Johannesburg
BEGIN:STANDARD
TZOFFSETFROM:+0200
TZOFFSETTO:+0200
TZNAME:SAST
DTSTART:20220101T000000
END:STANDARD
END:VTIMEZONE
BEGIN:VEVENT
DTSTART;TZID=Africa/Johannesburg:20250712T100000
DTEND;TZID=Africa/Johannesburg:20250712T170000
DTSTAMP:20260425T131748
CREATED:20250422T132843Z
LAST-MODIFIED:20250422T132843Z
UID:3379-1752314400-1752339600@rhodesinfo.co.za
SUMMARY:Rhodes Trail Run 2025
DESCRIPTION:The Rhodes Trail Run is a breathtaking 52km endurance race taking place on 12 July 2025 in the majestic Eastern Cape Highlands. Featuring a challenging 1600m ascent\, this iconic trail run promises an unforgettable experience through rugged terrain and stunning winter landscapes. Runners should be prepared to face extreme weather conditions\, including wind\, snow\, and rain.\n\n \n\nGeneral entries are now open. For more details\, visit www.rhodesrun.co.za or contact heather@rhodesrun.co.za / 061 516 6718.
URL:https://rhodesinfo.co.za/event/rhodes-trail-run-2025/
ATTACH;FMTTYPE=image/jpeg:https://rhodesinfo.co.za/wp-content/uploads/2025/04/Rhodes-Run_Image.jpeg
END:VEVENT
BEGIN:VEVENT
DTSTART;TZID=Africa/Johannesburg:20250418T100000
DTEND;TZID=Africa/Johannesburg:20250420T170000
DTSTAMP:20260425T131748
CREATED:20250403T155416Z
LAST-MODIFIED:20250424T063048Z
UID:3325-1744970400-1745168400@rhodesinfo.co.za
SUMMARY:NGKerk Bazaar 2025
DESCRIPTION:
URL:https://rhodesinfo.co.za/event/ng-rhodes-bazaar-2025/
ATTACH;FMTTYPE=image/jpeg:https://rhodesinfo.co.za/wp-content/uploads/2025/04/paasnaweek.jpg
END:VEVENT
BEGIN:VEVENT
DTSTART;TZID=Africa/Johannesburg:20240216T080000
DTEND;TZID=Africa/Johannesburg:20240218T170000
DTSTAMP:20260425T131748
CREATED:20250403T103621Z
LAST-MODIFIED:20250403T103726Z
UID:2815-1708070400-1708275600@rhodesinfo.co.za
SUMMARY:Rhodes Stoepsitfees 2024
DESCRIPTION:Rhodes Stoepsitfees 2024
URL:https://rhodesinfo.co.za/event/rhodes-stoepsitfees/
ATTACH;FMTTYPE=image/jpeg:https://rhodesinfo.co.za/wp-content/uploads/2025/04/PHOTO-2023-02-22-12-00-101.jpg
END:VEVENT
BEGIN:VEVENT
DTSTART;TZID=Africa/Johannesburg:20230408T100000
DTEND;TZID=Africa/Johannesburg:20230408T170000
DTSTAMP:20260425T131748
CREATED:20230403T103417Z
LAST-MODIFIED:20250424T063117Z
UID:2811-1680948000-1680973200@rhodesinfo.co.za
SUMMARY:NGKerk Bazaar 2023
DESCRIPTION:Rhodes NG Church annual basaar 8 April 2023! Doors open 10h00. Lots of meat packs\, baking and other goods available.
URL:https://rhodesinfo.co.za/event/rhodes-ng-church-basaar/
ATTACH;FMTTYPE=image/png:https://rhodesinfo.co.za/wp-content/uploads/2025/04/basaar_2023_image1.png
END:VEVENT
BEGIN:VEVENT
DTSTART;TZID=Africa/Johannesburg:20230217T080000
DTEND;TZID=Africa/Johannesburg:20230219T170000
DTSTAMP:20260425T131748
CREATED:20250403T103822Z
LAST-MODIFIED:20250403T103822Z
UID:2820-1676620800-1676826000@rhodesinfo.co.za
SUMMARY:Rhodes Stoepsitfees 2023
DESCRIPTION:Rhodes Stoepsitfees 2023
URL:https://rhodesinfo.co.za/event/rhodes-stoepsitfees-2023/
ATTACH;FMTTYPE=image/jpeg:https://rhodesinfo.co.za/wp-content/uploads/2025/04/PHOTO-2023-02-05-18-26-511.jpg
END:VEVENT
END:VCALENDAR