BEGIN:VCALENDAR
VERSION:2.0
PRODID:-//Rhodes Info Centre - ECPv6.15.20//NONSGML v1.0//EN
CALSCALE:GREGORIAN
METHOD:PUBLISH
X-ORIGINAL-URL:https://rhodesinfo.co.za
X-WR-CALDESC:Events for Rhodes Info Centre
REFRESH-INTERVAL;VALUE=DURATION:PT1H
X-Robots-Tag:noindex
X-PUBLISHED-TTL:PT1H
BEGIN:VTIMEZONE
TZID:Africa/Johannesburg
BEGIN:STANDARD
TZOFFSETFROM:+0200
TZOFFSETTO:+0200
TZNAME:SAST
DTSTART:20250101T000000
END:STANDARD
END:VTIMEZONE
BEGIN:VEVENT
DTSTART;TZID=Africa/Johannesburg:20261101T100000
DTEND;TZID=Africa/Johannesburg:20261101T120000
DTSTAMP:20260425T173013
CREATED:20260304T111151Z
LAST-MODIFIED:20260304T111151Z
UID:4220-1793527200-1793534400@rhodesinfo.co.za
SUMMARY:Rhodes Village Market - November 2026
DESCRIPTION:On the first Saturday of every month\, Rhodes comes alive with the spirit of community at the Village Market. Starting at 10 am\, locals gather to share their lovingly made cheeses\, preserves\, freshly baked breads\, antiques\, plants\, and more.
URL:https://rhodesinfo.co.za/event/rhodes-village-market-november-2026/
ATTACH;FMTTYPE=image/jpeg:https://rhodesinfo.co.za/wp-content/uploads/2025/04/551bbb02-547b-4a3b-8ab0-31a5765a72bc.jpeg
END:VEVENT
BEGIN:VEVENT
DTSTART;TZID=Africa/Johannesburg:20261205T100000
DTEND;TZID=Africa/Johannesburg:20261205T120000
DTSTAMP:20260425T173013
CREATED:20260304T111233Z
LAST-MODIFIED:20260304T111233Z
UID:4222-1796464800-1796472000@rhodesinfo.co.za
SUMMARY:Rhodes Village Market - December 2026
DESCRIPTION:On the first Saturday of every month\, Rhodes comes alive with the spirit of community at the Village Market. Starting at 10 am\, locals gather to share their lovingly made cheeses\, preserves\, freshly baked breads\, antiques\, plants\, and more.
URL:https://rhodesinfo.co.za/event/rhodes-village-market-december-2026/
ATTACH;FMTTYPE=image/jpeg:https://rhodesinfo.co.za/wp-content/uploads/2025/04/551bbb02-547b-4a3b-8ab0-31a5765a72bc.jpeg
END:VEVENT
END:VCALENDAR