BEGIN:VCALENDAR
VERSION:2.0
PRODID:-//Rhodes Info Centre - ECPv6.15.20//NONSGML v1.0//EN
CALSCALE:GREGORIAN
METHOD:PUBLISH
X-WR-CALNAME:Rhodes Info Centre
X-ORIGINAL-URL:https://rhodesinfo.co.za
X-WR-CALDESC:Events for Rhodes Info Centre
REFRESH-INTERVAL;VALUE=DURATION:PT1H
X-Robots-Tag:noindex
X-PUBLISHED-TTL:PT1H
BEGIN:VTIMEZONE
TZID:Africa/Johannesburg
BEGIN:STANDARD
TZOFFSETFROM:+0200
TZOFFSETTO:+0200
TZNAME:SAST
DTSTART:20250101T000000
END:STANDARD
END:VTIMEZONE
BEGIN:VEVENT
DTSTART;TZID=Africa/Johannesburg:20260606T100000
DTEND;TZID=Africa/Johannesburg:20260606T120000
DTSTAMP:20260425T141532
CREATED:20260304T110844Z
LAST-MODIFIED:20260304T110844Z
UID:4210-1780740000-1780747200@rhodesinfo.co.za
SUMMARY:Rhodes Village Market - June 2026
DESCRIPTION:On the first Saturday of every month\, Rhodes comes alive with the spirit of community at the Village Market. Starting at 10 am\, locals gather to share their lovingly made cheeses\, preserves\, freshly baked breads\, antiques\, plants\, and more.
URL:https://rhodesinfo.co.za/event/rhodes-village-market-june-2026/
ATTACH;FMTTYPE=image/jpeg:https://rhodesinfo.co.za/wp-content/uploads/2025/04/551bbb02-547b-4a3b-8ab0-31a5765a72bc.jpeg
END:VEVENT
BEGIN:VEVENT
DTSTART;TZID=Africa/Johannesburg:20260704T100000
DTEND;TZID=Africa/Johannesburg:20260704T120000
DTSTAMP:20260425T141532
CREATED:20260304T110919Z
LAST-MODIFIED:20260304T110919Z
UID:4212-1783159200-1783166400@rhodesinfo.co.za
SUMMARY:Rhodes Village Market - July 2026
DESCRIPTION:On the first Saturday of every month\, Rhodes comes alive with the spirit of community at the Village Market. Starting at 10 am\, locals gather to share their lovingly made cheeses\, preserves\, freshly baked breads\, antiques\, plants\, and more.
URL:https://rhodesinfo.co.za/event/rhodes-village-market-july-2026/
ATTACH;FMTTYPE=image/jpeg:https://rhodesinfo.co.za/wp-content/uploads/2025/04/551bbb02-547b-4a3b-8ab0-31a5765a72bc.jpeg
END:VEVENT
BEGIN:VEVENT
DTSTART;VALUE=DATE:20260711
DTEND;VALUE=DATE:20260712
DTSTAMP:20260425T141532
CREATED:20251121T144134Z
LAST-MODIFIED:20251121T144423Z
UID:4157-1783728000-1783814399@rhodesinfo.co.za
SUMMARY:Rhodes Trail Run 2026
DESCRIPTION:The Rhodes Trail Run is a breathtaking 50km endurance race taking place on 11 July 2026 in the majestic Eastern Cape Highlands. Featuring a challenging 1500m ascent\, this iconic trail run promises an unforgettable experience through rugged terrain and stunning winter landscapes.
URL:https://rhodesinfo.co.za/event/rhodes-trail-run-2026/
ATTACH;FMTTYPE=image/jpeg:https://rhodesinfo.co.za/wp-content/uploads/2025/11/WhatsApp-Image-2025-11-21-at-16.23.24_f5e5384c.jpg
END:VEVENT
BEGIN:VEVENT
DTSTART;TZID=Africa/Johannesburg:20260801T100000
DTEND;TZID=Africa/Johannesburg:20260801T120000
DTSTAMP:20260425T141532
CREATED:20260304T110956Z
LAST-MODIFIED:20260304T110956Z
UID:4214-1785578400-1785585600@rhodesinfo.co.za
SUMMARY:Rhodes Village Market - August 2026
DESCRIPTION:On the first Saturday of every month\, Rhodes comes alive with the spirit of community at the Village Market. Starting at 10 am\, locals gather to share their lovingly made cheeses\, preserves\, freshly baked breads\, antiques\, plants\, and more.
URL:https://rhodesinfo.co.za/event/rhodes-village-market-august-2026/
ATTACH;FMTTYPE=image/jpeg:https://rhodesinfo.co.za/wp-content/uploads/2025/04/551bbb02-547b-4a3b-8ab0-31a5765a72bc.jpeg
END:VEVENT
BEGIN:VEVENT
DTSTART;TZID=Africa/Johannesburg:20260905T100000
DTEND;TZID=Africa/Johannesburg:20260905T120000
DTSTAMP:20260425T141532
CREATED:20260304T111041Z
LAST-MODIFIED:20260304T111041Z
UID:4216-1788602400-1788609600@rhodesinfo.co.za
SUMMARY:Rhodes Village Market - September 2026
DESCRIPTION:On the first Saturday of every month\, Rhodes comes alive with the spirit of community at the Village Market. Starting at 10 am\, locals gather to share their lovingly made cheeses\, preserves\, freshly baked breads\, antiques\, plants\, and more.
URL:https://rhodesinfo.co.za/event/rhodes-village-market-september-2026/
ATTACH;FMTTYPE=image/jpeg:https://rhodesinfo.co.za/wp-content/uploads/2025/04/551bbb02-547b-4a3b-8ab0-31a5765a72bc.jpeg
END:VEVENT
BEGIN:VEVENT
DTSTART;TZID=Africa/Johannesburg:20261003T100000
DTEND;TZID=Africa/Johannesburg:20261003T120000
DTSTAMP:20260425T141532
CREATED:20260304T111118Z
LAST-MODIFIED:20260304T111118Z
UID:4218-1791021600-1791028800@rhodesinfo.co.za
SUMMARY:Rhodes Village Market - October 2026
DESCRIPTION:On the first Saturday of every month\, Rhodes comes alive with the spirit of community at the Village Market. Starting at 10 am\, locals gather to share their lovingly made cheeses\, preserves\, freshly baked breads\, antiques\, plants\, and more.
URL:https://rhodesinfo.co.za/event/rhodes-village-market-october-2026/
ATTACH;FMTTYPE=image/jpeg:https://rhodesinfo.co.za/wp-content/uploads/2025/04/551bbb02-547b-4a3b-8ab0-31a5765a72bc.jpeg
END:VEVENT
BEGIN:VEVENT
DTSTART;TZID=Africa/Johannesburg:20261101T100000
DTEND;TZID=Africa/Johannesburg:20261101T120000
DTSTAMP:20260425T141532
CREATED:20260304T111151Z
LAST-MODIFIED:20260304T111151Z
UID:4220-1793527200-1793534400@rhodesinfo.co.za
SUMMARY:Rhodes Village Market - November 2026
DESCRIPTION:On the first Saturday of every month\, Rhodes comes alive with the spirit of community at the Village Market. Starting at 10 am\, locals gather to share their lovingly made cheeses\, preserves\, freshly baked breads\, antiques\, plants\, and more.
URL:https://rhodesinfo.co.za/event/rhodes-village-market-november-2026/
ATTACH;FMTTYPE=image/jpeg:https://rhodesinfo.co.za/wp-content/uploads/2025/04/551bbb02-547b-4a3b-8ab0-31a5765a72bc.jpeg
END:VEVENT
BEGIN:VEVENT
DTSTART;TZID=Africa/Johannesburg:20261205T100000
DTEND;TZID=Africa/Johannesburg:20261205T120000
DTSTAMP:20260425T141532
CREATED:20260304T111233Z
LAST-MODIFIED:20260304T111233Z
UID:4222-1796464800-1796472000@rhodesinfo.co.za
SUMMARY:Rhodes Village Market - December 2026
DESCRIPTION:On the first Saturday of every month\, Rhodes comes alive with the spirit of community at the Village Market. Starting at 10 am\, locals gather to share their lovingly made cheeses\, preserves\, freshly baked breads\, antiques\, plants\, and more.
URL:https://rhodesinfo.co.za/event/rhodes-village-market-december-2026/
ATTACH;FMTTYPE=image/jpeg:https://rhodesinfo.co.za/wp-content/uploads/2025/04/551bbb02-547b-4a3b-8ab0-31a5765a72bc.jpeg
END:VEVENT
END:VCALENDAR