BEGIN:VCALENDAR
VERSION:2.0
PRODID:-//Rhodes Info Centre - ECPv6.15.20//NONSGML v1.0//EN
CALSCALE:GREGORIAN
METHOD:PUBLISH
X-WR-CALNAME:Rhodes Info Centre
X-ORIGINAL-URL:https://rhodesinfo.co.za
X-WR-CALDESC:Events for Rhodes Info Centre
REFRESH-INTERVAL;VALUE=DURATION:PT1H
X-Robots-Tag:noindex
X-PUBLISHED-TTL:PT1H
BEGIN:VTIMEZONE
TZID:Africa/Johannesburg
BEGIN:STANDARD
TZOFFSETFROM:+0200
TZOFFSETTO:+0200
TZNAME:SAST
DTSTART:20250101T000000
END:STANDARD
END:VTIMEZONE
BEGIN:VEVENT
DTSTART;VALUE=DATE:20260711
DTEND;VALUE=DATE:20260712
DTSTAMP:20260424T214605
CREATED:20251121T144134Z
LAST-MODIFIED:20251121T144423Z
UID:4157-1783728000-1783814399@rhodesinfo.co.za
SUMMARY:Rhodes Trail Run 2026
DESCRIPTION:The Rhodes Trail Run is a breathtaking 50km endurance race taking place on 11 July 2026 in the majestic Eastern Cape Highlands. Featuring a challenging 1500m ascent\, this iconic trail run promises an unforgettable experience through rugged terrain and stunning winter landscapes.
URL:https://rhodesinfo.co.za/event/rhodes-trail-run-2026/
ATTACH;FMTTYPE=image/jpeg:https://rhodesinfo.co.za/wp-content/uploads/2025/11/WhatsApp-Image-2025-11-21-at-16.23.24_f5e5384c.jpg
END:VEVENT
END:VCALENDAR