BEGIN:VCALENDAR
VERSION:2.0
PRODID:-//Rhodes Info Centre - ECPv6.15.20//NONSGML v1.0//EN
CALSCALE:GREGORIAN
METHOD:PUBLISH
X-ORIGINAL-URL:https://rhodesinfo.co.za
X-WR-CALDESC:Events for Rhodes Info Centre
REFRESH-INTERVAL;VALUE=DURATION:PT1H
X-Robots-Tag:noindex
X-PUBLISHED-TTL:PT1H
BEGIN:VTIMEZONE
TZID:Africa/Johannesburg
BEGIN:STANDARD
TZOFFSETFROM:+0200
TZOFFSETTO:+0200
TZNAME:SAST
DTSTART:20250101T000000
END:STANDARD
END:VTIMEZONE
BEGIN:VEVENT
DTSTART;TZID=Africa/Johannesburg:20260502T100000
DTEND;TZID=Africa/Johannesburg:20260502T120000
DTSTAMP:20260424T175807
CREATED:20260304T110810Z
LAST-MODIFIED:20260304T110810Z
UID:4208-1777716000-1777723200@rhodesinfo.co.za
SUMMARY:Rhodes Village Market - May 2026
DESCRIPTION:On the first Saturday of every month\, Rhodes comes alive with the spirit of community at the Village Market. Starting at 10 am\, locals gather to share their lovingly made cheeses\, preserves\, freshly baked breads\, antiques\, plants\, and more.
URL:https://rhodesinfo.co.za/event/rhodes-village-market-may-2026/
ATTACH;FMTTYPE=image/jpeg:https://rhodesinfo.co.za/wp-content/uploads/2025/04/551bbb02-547b-4a3b-8ab0-31a5765a72bc.jpeg
END:VEVENT
END:VCALENDAR